BEGIN:VCALENDAR
VERSION:2.0
PRODID:-//ChamberMaster//Event Calendar 2.0//EN
METHOD:PUBLISH
X-PUBLISHED-TTL:P3D
REFRESH-INTERVAL:P3D
CALSCALE:GREGORIAN
BEGIN:VEVENT
DTSTART:20150917T003000Z
DTEND:20150917T033000Z
X-MICROSOFT-CDO-ALLDAYEVENT:FALSE
SUMMARY:1st Annual National Hispanic Heritage Month Kick-off in the Plaza
DESCRIPTION:The Central Valley Hispanic Chamber\,  Modesto Chamber & San Joaquin County Hispanic Chamber of Commerce invite you!  To the 1st Annual National Hispanic Heritage Month Kick-Off in the Plaza    \nFood~Raffles~Cultural Performances~Music~Fun~Networking \nFree for Chamber Members~$5 for Non Chamber Members
X-ALT-DESC;FMTTYPE=text/html:The Central Valley Hispanic Chamber\,  Modesto Chamber & San Joaquin County Hispanic Chamber of Commerce invite you!  To the 1st Annual National Hispanic Heritage Month Kick-Off in the Plaza    \nFood~Raffles~Cultural Performances~Music~Fun~Networking \nFree for Chamber Members~$5 for Non Chamber Members
LOCATION:10th Street Plaza 1010 10th St Modesto\, CA 95354
UID:e.2695.1198
SEQUENCE:3
DTSTAMP:20260419T232221Z
URL:https://business.modchamber.org/events/details/1st-annual-national-hispanic-heritage-month-kick-off-in-the-plaza-09-16-2015-1198
END:VEVENT

END:VCALENDAR
