BEGIN:VCALENDAR
VERSION:2.0
PRODID:-//ChamberMaster//Event Calendar 2.0//EN
METHOD:PUBLISH
X-PUBLISHED-TTL:P3D
REFRESH-INTERVAL:P3D
CALSCALE:GREGORIAN
BEGIN:VEVENT
DTSTART:20160310T193000Z
DTEND:20160310T080000Z
X-MICROSOFT-CDO-ALLDAYEVENT:FALSE
SUMMARY:15th ANNUAL CESAR E. CHAVEZ EMPOWERMENT LUNCHEON
DESCRIPTION:Details to coming soon.\nContact :	Maggie Mejia\nPhone :	(209) 303-2664\nEmail :	\nWeb Site :
X-ALT-DESC;FMTTYPE=text/html:Details to coming soon.\nContact :	Maggie Mejia\nPhone :	(209) 303-2664\nEmail :	\nWeb Site :	
LOCATION:Red Event Center 921 7th Street Modesto\, CA 95354
UID:e.2695.1457
SEQUENCE:3
DTSTAMP:20260419T153740Z
URL:https://business.modchamber.org/events/details/15th-annual-cesar-e-chavez-empowerment-luncheon-03-10-2016-1457
END:VEVENT

END:VCALENDAR
