BEGIN:VCALENDAR
VERSION:2.0
PRODID:-//ChamberMaster//Event Calendar 2.0//EN
METHOD:PUBLISH
X-PUBLISHED-TTL:P3D
REFRESH-INTERVAL:P3D
CALSCALE:GREGORIAN
BEGIN:VEVENT
DTSTART:20150312T183000Z
DTEND:20150312T203000Z
X-MICROSOFT-CDO-ALLDAYEVENT:FALSE
SUMMARY:14th Annual Cesar E. Chavez Empowerment Luncheon
DESCRIPTION:It is an honor to announce that the speaker this year\, is ARTURO RODRIGUEZ\, President of the United Farm Workers\, and the predecessor of CESAR CHAVEZ. ARTURO RODRIGUEZ became UFW President upon the death of CESAR CHAVEZ IN 1992 and has continued to fight for the rights of the farm workers and now is deeply involved with Immigration. Tickets will sell fast and recommend you reserve your tickets now. Adult tickets are $20.00 each or a reserved table of 8 with name recognition in the Program and on the LCR website as a table sponsor for $200.00. Student tickets are $15.00 each or $160.00 for a table of 8 with name recognition in the Program and LCR website. There will be no reservations for individual tickets. \n\nFor tickets contact Rosemary Musino at (209) 214-4545\; to pay by credit card contact Marco Moreno at (209) 872-9415 or tickets can be purchased at the Modesto Convention & Visitors Bureau\, 1150 9th St.\, Ste. C\, Modesto\, CA 95354. Payment by checks only at this location.\nContact :	Maggie Mejia\nPhone :	(209) 303-2664\nEmail :	\nWeb Site :
X-ALT-DESC;FMTTYPE=text/html:It is an honor to announce that the speaker this year\, is ARTURO RODRIGUEZ\, President of the United Farm Workers\, and the predecessor of CESAR CHAVEZ. ARTURO RODRIGUEZ became UFW President upon the death of CESAR CHAVEZ IN 1992 and has continued to fight for the rights of the farm workers and now is deeply involved with Immigration. Tickets will sell fast and recommend you reserve your tickets now. Adult tickets are $20.00 each or a reserved table of 8 with name recognition in the Program and on the LCR website as a table sponsor for $200.00. Student tickets are $15.00 each or $160.00 for a table of 8 with name recognition in the Program and LCR website. There will be no reservations for individual tickets. \n\nFor tickets contact Rosemary Musino at (209) 214-4545\; to pay by credit card contact Marco Moreno at (209) 872-9415 or tickets can be purchased at the Modesto Convention & Visitors Bureau\, 1150 9th St.\, Ste. C\, Modesto\, CA 95354. Payment by checks only at this location.\nContact :	Maggie Mejia\nPhone :	(209) 303-2664\nEmail :	\nWeb Site :	
LOCATION:Red Event Center 921 7th Street Modesto\, CA 95354
UID:e.2695.635
SEQUENCE:3
DTSTAMP:20260420T073911Z
URL:https://business.modchamber.org/events/details/14th-annual-cesar-e-chavez-empowerment-luncheon-03-12-2015-635
END:VEVENT

END:VCALENDAR
